﻿BEGIN:VCALENDAR
VERSION:2.0
PRODID:-//Jazz04 - ECPv5.3.2.1//NONSGML v1.0//EN
CALSCALE:GREGORIAN
METHOD:PUBLISH
X-WR-CALNAME:Jazz04
X-ORIGINAL-URL:https://jazz04.be
X-WR-CALDESC:évènements pour Jazz04
BEGIN:VTIMEZONE
TZID:Europe/Paris
BEGIN:DAYLIGHT
TZOFFSETFROM:+0100
TZOFFSETTO:+0200
TZNAME:CEST
DTSTART:20220327T010000
END:DAYLIGHT
BEGIN:STANDARD
TZOFFSETFROM:+0200
TZOFFSETTO:+0100
TZNAME:CET
DTSTART:20221030T010000
END:STANDARD
END:VTIMEZONE
BEGIN:VEVENT
DTSTART;TZID=Europe/Paris:20220528T200000
DTEND;TZID=Europe/Paris:20220528T220000
DTSTAMP:20260421T125829
CREATED:20220414T112948Z
LAST-MODIFIED:20220414T112948Z
UID:3234-1653768000-1653775200@jazz04.be
SUMMARY:MARC FRANKINET QUARTET
DESCRIPTION:Emmené par Marc Frankinet\, ce quatuor de musiciens liégeois en pleine maturité artistique propose un répertoire de standards revisités.\nLe son de la trompette ou du bugle s’entremêle aux rondeurs de la basse électrique\, à la sonorité chaude de la guitare\, le tout soutenu par un jeu de batterie très coloré.\nUn groupe\, une atmosphère… \nMarc Frankinet – trompette\nJacques Pirotton – guitare\nBenoit Vanderstraeten – basse\nAntoine Cirri – batterie \nhttps://homerecordsbe.bandcamp.com/album/in-a-little-provincial-town\nhttps://www.marcfrankinet.com/ \n\n20h – 10 € / 7 € (demandeurs d’emploi) / 5 € (étudiants) \n\nSelon la limite des places disponibles\, les réservations sont vivement souhaitées via reservations@lanvert.be
URL:https://jazz04.be/event/marc-frankinet-quartet-5/
LOCATION:L’An Vert
CATEGORIES:Concerts
ATTACH;FMTTYPE=image/jpeg:https://jazz04.be/wp-content/uploads/2022/04/frank.jpg
ORGANIZER;CN="l%27An%20Vert":MAILTO:info@lanvert.be
END:VEVENT
END:VCALENDAR