﻿BEGIN:VCALENDAR
VERSION:2.0
PRODID:-//Jazz04 - ECPv5.3.2.1//NONSGML v1.0//EN
CALSCALE:GREGORIAN
METHOD:PUBLISH
X-WR-CALNAME:Jazz04
X-ORIGINAL-URL:https://jazz04.be
X-WR-CALDESC:évènements pour Jazz04
BEGIN:VTIMEZONE
TZID:Europe/Paris
BEGIN:DAYLIGHT
TZOFFSETFROM:+0100
TZOFFSETTO:+0200
TZNAME:CEST
DTSTART:20210328T010000
END:DAYLIGHT
BEGIN:STANDARD
TZOFFSETFROM:+0200
TZOFFSETTO:+0100
TZNAME:CET
DTSTART:20211031T010000
END:STANDARD
END:VTIMEZONE
BEGIN:VEVENT
DTSTART;TZID=Europe/Paris:20211119T203000
DTEND;TZID=Europe/Paris:20211119T223000
DTSTAMP:20260421T104048
CREATED:20211013T150212Z
LAST-MODIFIED:20211013T150611Z
UID:2751-1637353800-1637361000@jazz04.be
SUMMARY:Martin Salemi Trio
DESCRIPTION:Sous ses airs nonchalants et pince-sans-rire\, le pianiste Martin Salemi emmène son trio\, avec tempérament\, au cœur d’une musique qui voit large. Salemi a le sens de la narration et possède les arguments pour convaincre tout le monde à le suivre. \nIl faut dire qu’il peut compter sur une rythmique soudée et complice (Boris Schmidt à la contrebasse et Daniel Jonkers aux drums) qui est aussi\, sans nul doute\, l’un des secrets de cette réussite. Car il s’agit bien ici de dialogues\, d’échanges de points de vue et surtout de liberté. Avec Martin Salemi\, on sait presque toujours d’où l’on vient (une touche bossa\, une pointe d’orient\, un soupçon de pop et du swing partout)\, mais on se sait jamais vraiment où l’on va. Le pianiste aime prendre les contrepieds\, ne pas être là où on l’attend. \n𝐌𝐚𝐫𝐭𝐢𝐧 𝐒𝐚𝐥𝐞𝐦𝐢\, piano\n𝐁𝐨𝐫𝐢𝐬 𝐒𝐜𝐡𝐦𝐢𝐝𝐭\, contrebasse\n𝐃𝐚𝐧𝐢𝐞𝐥 𝐉𝐨𝐧𝐤𝐞𝐫𝐬\, batterie \nwww.martinsalemi.com \nUn concert Jazz Tour\nOrganisé par Les Lundis d’Hortense et l’An Vert\n∷∷∷∷∷∷∷∷∷∷∷∷∷∷∷∷∷∷∷∷∷∷∷∷∷∷∷∷∷∷∷\nSelon la limite des places disponibles\, les réservations sont vivement souhaitées via reservations@lanvert.be \nPlus d’infos ? \nwww.leslundisdhortense.be/artiste/martin-salemi-trio \n(Photo :Vincent Blairon)
URL:https://jazz04.be/event/martin-salemi-trio/
LOCATION:L’An Vert
CATEGORIES:Concerts
ATTACH;FMTTYPE=image/jpeg:https://jazz04.be/wp-content/uploads/2021/10/242827025_4356108734466288_7151166972261371243_n.jpeg
ORGANIZER;CN="l%27An%20Vert":MAILTO:info@lanvert.be
END:VEVENT
END:VCALENDAR