﻿BEGIN:VCALENDAR
VERSION:2.0
PRODID:-//Jazz04 - ECPv5.3.2.1//NONSGML v1.0//EN
CALSCALE:GREGORIAN
METHOD:PUBLISH
X-WR-CALNAME:Jazz04
X-ORIGINAL-URL:https://jazz04.be
X-WR-CALDESC:évènements pour Jazz04
BEGIN:VTIMEZONE
TZID:Europe/Paris
BEGIN:DAYLIGHT
TZOFFSETFROM:+0100
TZOFFSETTO:+0200
TZNAME:CEST
DTSTART:20200329T010000
END:DAYLIGHT
BEGIN:STANDARD
TZOFFSETFROM:+0200
TZOFFSETTO:+0100
TZNAME:CET
DTSTART:20201025T010000
END:STANDARD
END:VTIMEZONE
BEGIN:VEVENT
DTSTART;TZID=Europe/Paris:20200226T210000
DTEND;TZID=Europe/Paris:20200226T233000
DTSTAMP:20260421T104257
CREATED:20200121T114848Z
LAST-MODIFIED:20200121T115841Z
UID:1740-1582750800-1582759800@jazz04.be
SUMMARY:Matteo Pastorino Playground Four
DESCRIPTION:Avec Matteo Pastorino (bass clarinet & clarinet)\, Piergiorgio Pirro (pn)\,Daniele Cappucci\, (cb) & Armando Luongo (dr)\n\nNé en Sardaigne\, Matteo commence à jouer de la clarinette en autodidacte dès l’age de 13 ans. Lors de séminaires de Nuoro Jazz\, il apprend avec le trompettiste Paolo Fresu. A 19 ans\, il fréquente le cycle spécialisé de Jazz du CRR de Paris (2009). Durant Siena jazz 2009\, il a l’occasion d’étudier avec Kenny Werner\, Clarence Penn\, Aaron Goldberg\, Miguel Zenon\, et Chris Potter. Matteo Pastorino est un artiste SELMER depuis juin 2012. La musique de « Playground Four » est basée sur des compositions originales de chaque membre\, des standards et des morceaux plus contemporains. Une incursion sur un terrain de jeu fait de notes\, de rythmes et d’harmonies.\n\nhttp://matteopastorino.com/ \n\n\n\n\n\n\n\nEntrée: 5 / 7 euros \n\n\n\n\n\n\n\n\n\n\nOuverture du club et du restaurant dès 19h.\nL’accès au concert se fait sans réservation.\nLes réservations concernent le restaurant et se font uniquement par mail via l’adresse:  jacquespelzerjazzclub.asbl@gmail.com
URL:https://jazz04.be/event/matteo-pastorino-playground-four/
LOCATION:Jacques Pelzer Jazz Club\, Boulevard Ernest Solvay 493\, Liège\, Liège\, 4000
CATEGORIES:Concerts
ATTACH;FMTTYPE=image/jpeg:https://jazz04.be/wp-content/uploads/2020/01/Matteo-Pastorino-2.jpg
END:VEVENT
END:VCALENDAR