﻿BEGIN:VCALENDAR
VERSION:2.0
PRODID:-//Jazz04 - ECPv5.3.2.1//NONSGML v1.0//EN
CALSCALE:GREGORIAN
METHOD:PUBLISH
X-WR-CALNAME:Jazz04
X-ORIGINAL-URL:https://jazz04.be
X-WR-CALDESC:évènements pour Jazz04
BEGIN:VTIMEZONE
TZID:Europe/Paris
BEGIN:DAYLIGHT
TZOFFSETFROM:+0100
TZOFFSETTO:+0200
TZNAME:CEST
DTSTART:20200329T010000
END:DAYLIGHT
BEGIN:STANDARD
TZOFFSETFROM:+0200
TZOFFSETTO:+0100
TZNAME:CET
DTSTART:20201025T010000
END:STANDARD
END:VTIMEZONE
BEGIN:VEVENT
DTSTART;TZID=Europe/Paris:20200930T190000
DTEND;TZID=Europe/Paris:20200930T233000
DTSTAMP:20260421T120612
CREATED:20200925T151008Z
LAST-MODIFIED:20200928T085636Z
UID:2300-1601492400-1601508600@jazz04.be
SUMMARY:Mercredi 30 septembre 2020 | Bram Weijters Trio
DESCRIPTION:Avec Bram Weijters (pn)\, Piet Verbist (cb)\, Lionel Beuvens (dr)\n\nBram Weiters est un pianiste\, compositeur et arrangeur belge basé à Anvers. Ses inclinations sont le jazz et l’improvisation (Chad McCullough-Bram Weijters Quartet\, Koen Nys Quintet\, Zygomatik\, Marjan van Rompay groupe\, Rackham …) mais il se produit aussi avec des gens de la hip hop et des groupes alternatifs (Jerboa\, Dez Mona\, Winther). Accompagné du chevronné bassiste Piet Verbist et de l’expressif batteur Lionel Beuvens leur trio nous confère un jazz balancé entre tradition et modernité\, aux nuances lyriques et aux saveurs épicées. \n\n\n\nNous adaptons les lieux et nos comportements aux mesures sanitaires en vigueur.\nAfin de respecter les normes de distanciation physique\, nous avons choisi de limiter l’entrée aux 40 premières personnes qui réserveront par mail via l’adresse jacquespelzerjazzclub.asbl@gmail.com\n \n\n\n\n\n\n\n  \nEntrée : 5/7 € \n\n\n\n\n\n\nL’accès au concert et au repas se fait uniquement sous réservation. \njacquespelzerjazzclub.asbl@gmail.com\nNotre confirmation en réponse fait office de réservation.\nSi le concert est complet\, une liste d’attente est créée. Merci de prévenir en cas de désistement\, nous pourrons ainsi proposer la place à une autre personne.\nNous limitons le nombre de places à 40 personnes afin de respecter les mesures sanitaires et veiller scrupuleusement à la sécurité de tous.\nOuverture du club dès 19h00\nConcert à 21h\nPort du masque dans la salle obligatoire.\nSi le temps s’y prete\, il sera bien entendu possible de suivre le concert depuis le jardin.
URL:https://jazz04.be/event/mercredi-30-septembre-2020-bram-weijters-trio/
LOCATION:Jacques Pelzer Jazz Club\, Boulevard Ernest Solvay 493\, Liège\, Liège\, 4000
CATEGORIES:Concerts
ATTACH;FMTTYPE=image/jpeg:https://jazz04.be/wp-content/uploads/2020/09/Bram-Weijters-Trio3_20203718515_r_thumb.jpg
ORGANIZER;CN="Jacques%20Pelzer%20Jazz%20Club":MAILTO:jacquespelzerjazzclub.asbl@gmail.com
END:VEVENT
END:VCALENDAR