﻿BEGIN:VCALENDAR
VERSION:2.0
PRODID:-//Jazz04 - ECPv5.3.2.1//NONSGML v1.0//EN
CALSCALE:GREGORIAN
METHOD:PUBLISH
X-WR-CALNAME:Jazz04
X-ORIGINAL-URL:https://jazz04.be
X-WR-CALDESC:évènements pour Jazz04
BEGIN:VTIMEZONE
TZID:Europe/Paris
BEGIN:DAYLIGHT
TZOFFSETFROM:+0100
TZOFFSETTO:+0200
TZNAME:CEST
DTSTART:20200329T010000
END:DAYLIGHT
BEGIN:STANDARD
TZOFFSETFROM:+0200
TZOFFSETTO:+0100
TZNAME:CET
DTSTART:20201025T010000
END:STANDARD
END:VTIMEZONE
BEGIN:VEVENT
DTSTART;TZID=Europe/Paris:20200415T210000
DTEND;TZID=Europe/Paris:20200415T233000
DTSTAMP:20260421T115347
CREATED:20200220T155250Z
LAST-MODIFIED:20200330T062607Z
UID:1861-1586984400-1586993400@jazz04.be
SUMMARY:Annulation (Covid-19)-Milan Verbist Trio
DESCRIPTION:Avec Milan Verbist (pn)\, Jef Manderfeld (cb) & Simon Van Brandt (dr) \nÉtudiants au Conservatoire Royal d’Anvers\, ces trois jeunes musiciens découvrent leur amour pour la même musique: le bebop et le hard bop. En 2016\, ils décident de former un trio sous la direction du pianiste Milan Verbist. Leur répertoire se compose d’un mélange de standards\, de morceaux de bop dur et de compositions propres. Ils ont joué lors d’événements comme le Jammin ‘Festival à Rome\, Klara in the Singel\, Apple Garden Jazz … Outre ces scènes plus importantes\, ils ont également joué de nombreux concerts dans de petits bars et clubs. Certaines des plus grandes influences de Milan sont McCoy Tyner\, Wynton Kelly\, Phineas Newborn\, Herbie Hancock …\n\nEntrée : 5/7 €\n\n\nOuverture du club et du restaurant dès 19h.\nL’accès au concert se fait sans réservation.\nLes réservations concernent le restaurant et se font uniquement par mail via l’adresse:  jacquespelzerjazzclub.asbl@gmail.com
URL:https://jazz04.be/event/milan-verbist-trio/
LOCATION:Jacques Pelzer Jazz Club\, Boulevard Ernest Solvay 493\, Liège\, Liège\, 4000
CATEGORIES:Concerts
ATTACH;FMTTYPE=image/jpeg:https://jazz04.be/wp-content/uploads/2020/02/Milan-Verbist-trio-1.jpg
ORGANIZER;CN="Jacques%20Pelzer%20Jazz%20Club":MAILTO:jacquespelzerjazzclub.asbl@gmail.com
END:VEVENT
END:VCALENDAR