﻿BEGIN:VCALENDAR
VERSION:2.0
PRODID:-//Jazz04 - ECPv5.3.2.1//NONSGML v1.0//EN
CALSCALE:GREGORIAN
METHOD:PUBLISH
X-WR-CALNAME:Jazz04
X-ORIGINAL-URL:https://jazz04.be
X-WR-CALDESC:évènements pour Jazz04
BEGIN:VTIMEZONE
TZID:Europe/Paris
BEGIN:DAYLIGHT
TZOFFSETFROM:+0100
TZOFFSETTO:+0200
TZNAME:CEST
DTSTART:20230326T010000
END:DAYLIGHT
BEGIN:STANDARD
TZOFFSETFROM:+0200
TZOFFSETTO:+0100
TZNAME:CET
DTSTART:20231029T010000
END:STANDARD
END:VTIMEZONE
BEGIN:VEVENT
DTSTART;TZID=Europe/Paris:20230113T200000
DTEND;TZID=Europe/Paris:20230113T220000
DTSTAMP:20260421T104044
CREATED:20221220T113302Z
LAST-MODIFIED:20230109T101703Z
UID:3773-1673640000-1673647200@jazz04.be
SUMMARY:Mimi Verderame Trio
DESCRIPTION:Le batteur Mimi Verderame invite le guitariste néerlandais Jesse van Ruller\, considéré comme étant l’un des meilleurs guitaristes jazz de la scène actuelle.\nIls seront accompagnés par le non moins célèbre contrebassiste Nicolas Thys pour un concert à ne pas manquer ! \nJesse Van Ruller – guitare\nNicolas Thys – contrebasse\nDomenico Verderame – batterie \n\n20h – 10 € / 7 € (demandeurs d’emploi) / 5 € (étudiants) \n\nSelon la limite des places disponibles\, les réservations sont vivement souhaitées via reservations@lanvert.be
URL:https://jazz04.be/event/mimi-verderame-trio/
LOCATION:L’An Vert
CATEGORIES:Concerts
ATTACH;FMTTYPE=image/jpeg:https://jazz04.be/wp-content/uploads/2022/12/mimi.jpg
END:VEVENT
END:VCALENDAR