﻿BEGIN:VCALENDAR
VERSION:2.0
PRODID:-//Jazz04 - ECPv5.3.2.1//NONSGML v1.0//EN
CALSCALE:GREGORIAN
METHOD:PUBLISH
X-WR-CALNAME:Jazz04
X-ORIGINAL-URL:https://jazz04.be
X-WR-CALDESC:évènements pour Jazz04
BEGIN:VTIMEZONE
TZID:Europe/Paris
BEGIN:DAYLIGHT
TZOFFSETFROM:+0100
TZOFFSETTO:+0200
TZNAME:CEST
DTSTART:20200329T010000
END:DAYLIGHT
BEGIN:STANDARD
TZOFFSETFROM:+0200
TZOFFSETTO:+0100
TZNAME:CET
DTSTART:20201025T010000
END:STANDARD
END:VTIMEZONE
BEGIN:VEVENT
DTSTART;TZID=Europe/Paris:20200108T210000
DTEND;TZID=Europe/Paris:20200108T210000
DTSTAMP:20260421T105530
CREATED:20191217T115554Z
LAST-MODIFIED:20191217T115626Z
UID:1565-1578517200-1578517200@jazz04.be
SUMMARY:Nicola Concettini « European Tour »
DESCRIPTION:Avec Nicola Concettini (Sax)\, Manuel Concettini (tr)\, Manrico Seghi (organ hammond)\, Vladimiro Carboni (dr)\n\nUn quartet dynamique et irrésistible caractérisé par une extraordinaire synergie. Les échanges et les influences musicales (Count Basie\, Duke Ellington\, Joe Henderson) ont exalté un projet musical au sein duquel la virtuosité se mêle à l’alchimie. Une première en Belgique. \n\n\n\n\n\n\n\nhttps://www.youtube.com/watch?v=IkCfxXXvPGo&feature=youtu.be\nhttps://www.youtube.com/watch?v=o3694dTUXOc&feature=youtu.be\nhttps://www.youtube.com/watch?v=Vju0RfOqL-M&feature=youtu.be\n\nEntrée: 5 / 7 euros \n\n\n\n\n\nOuverture du club et du restaurant dès 19h.\nL’accès au concert se fait sans réservation.\nLes réservations concernent le restaurant et se font uniquement par mail via l’adresse:  jacquespelzerjazzclub.asbl@gmail.com
URL:https://jazz04.be/event/nicola-concettini-european-tour/
LOCATION:Jacques Pelzer Jazz Club\, Boulevard Ernest Solvay 493\, Liège\, Liège\, 4000
CATEGORIES:Concerts
ATTACH;FMTTYPE=image/jpeg:https://jazz04.be/wp-content/uploads/2019/12/IMG_7185-19-10-19-03-191_2019129132940_r_thumb.jpeg
END:VEVENT
END:VCALENDAR