﻿BEGIN:VCALENDAR
VERSION:2.0
PRODID:-//Jazz04 - ECPv5.3.2.1//NONSGML v1.0//EN
CALSCALE:GREGORIAN
METHOD:PUBLISH
X-WR-CALNAME:Jazz04
X-ORIGINAL-URL:https://jazz04.be
X-WR-CALDESC:évènements pour Jazz04
BEGIN:VTIMEZONE
TZID:Europe/Paris
BEGIN:DAYLIGHT
TZOFFSETFROM:+0100
TZOFFSETTO:+0200
TZNAME:CEST
DTSTART:20200329T010000
END:DAYLIGHT
BEGIN:STANDARD
TZOFFSETFROM:+0200
TZOFFSETTO:+0100
TZNAME:CET
DTSTART:20201025T010000
END:STANDARD
END:VTIMEZONE
BEGIN:VEVENT
DTSTART;TZID=Europe/Paris:20200122T210000
DTEND;TZID=Europe/Paris:20200122T233000
DTSTAMP:20260421T144150
CREATED:20191217T120018Z
LAST-MODIFIED:20200117T125821Z
UID:1571-1579726800-1579735800@jazz04.be
SUMMARY:P. Mohy & B. Sluijs Duo
DESCRIPTION:Avec Pascal Mohy (pn) & Ben Sluijs (sax)\n\nPascal Mohy et Ben Sluijs jouent ensemble depuis quelques années. Au fil du temps un dialogue intime s’est installé entre le saxophone et le piano. Ils virevoltent dans un répertoire de compositions originales mais aussi de morceaux de Duke Ellington\, Thelonious Monk\, Lennie Tristano\, Jackie Mc Lean et bien d’autres. Les lignes sinueuses de Ben Sluys guident le duo vers une musique bouillonnante\, le toucher délicat de Pascal Mohy les ramène vers une ambiance plus méditative où les notes déchirantes du saxophone paraissent comme suspendues. \n\nEntrée: 5 / 7 euros \nOuverture du club et du restaurant dès 19h.\nL’accès au concert se fait sans réservation.\nLes réservations concernent le restaurant et se font uniquement par mail via l’adresse:  jacquespelzerjazzclub.asbl@gmail.com
URL:https://jazz04.be/event/p-mohy-b-sluijs-duo/
LOCATION:Jacques Pelzer Jazz Club\, Boulevard Ernest Solvay 493\, Liège\, Liège\, 4000
CATEGORIES:Concerts
ATTACH;FMTTYPE=image/jpeg:https://jazz04.be/wp-content/uploads/2019/12/duoMohySluijs.jpg
END:VEVENT
END:VCALENDAR