﻿BEGIN:VCALENDAR
VERSION:2.0
PRODID:-//Jazz04 - ECPv5.3.2.1//NONSGML v1.0//EN
CALSCALE:GREGORIAN
METHOD:PUBLISH
X-WR-CALNAME:Jazz04
X-ORIGINAL-URL:https://jazz04.be
X-WR-CALDESC:évènements pour Jazz04
BEGIN:VTIMEZONE
TZID:Europe/Paris
BEGIN:DAYLIGHT
TZOFFSETFROM:+0100
TZOFFSETTO:+0200
TZNAME:CEST
DTSTART:20230326T010000
END:DAYLIGHT
BEGIN:STANDARD
TZOFFSETFROM:+0200
TZOFFSETTO:+0100
TZNAME:CET
DTSTART:20231029T010000
END:STANDARD
END:VTIMEZONE
BEGIN:VEVENT
DTSTART;TZID=Europe/Paris:20231209T203000
DTEND;TZID=Europe/Paris:20231209T223000
DTSTAMP:20260426T040026
CREATED:20231103T183647Z
LAST-MODIFIED:20231103T183647Z
UID:4445-1702153800-1702161000@jazz04.be
SUMMARY:QUAND LE JAZZ EST LÀ
DESCRIPTION:Quand le jazz est\, quand le jazz est là… « Deux trois quatre\, un deux trois quatre »\, compte le chanteur dans sa tête. La Java s’en\, la java s’en va…\nDe ces quelques mesures de la chanson de Nougaro (le Jazz et la Java) est née l’idée de ce spectacle également présenté comme une « petite histoire de la chanson française ayant un lien de parenté avec le Jazz ». \nDeux musiciens chevronnés et expérimentés\, un chanteur amoureux du swing et de la langue française\, il n’en fallait pas plus pour mettre sur pied ce concert.\nL’idée est simple\, parcourir quelques chansons françaises ayant influencé le Jazz\, s’en étant inspiré ou lui rendant hommage. De l’incontournable « Feuilles Mortes » à la « Boite de Jazz »\, en évoquant les influences Jazz de Trenet\, Gainsbourg\, et même Boris Vian…\, le tout assaisonné de quelques anecdotes amusantes et toutes véridiques. \nMichel Desaubies – chant\nAndré Meuwis – piano\nMimi Verderame – guitare \n\n\n20h30 – 12 € / 10 € (demandeurs d’emploi) / 5 € (étudiants) \n\nSelon la limite des places disponibles\, les réservations sont vivement souhaitées via anvertreservations@gmail.com
URL:https://jazz04.be/event/quand-le-jazz-est-la/
LOCATION:L’An Vert
CATEGORIES:Concerts
ATTACH;FMTTYPE=image/jpeg:https://jazz04.be/wp-content/uploads/2023/11/Quand-le-Jazz-est-lÖ-c-mention-obligatoire-Henry-Mageräs-8-1024x683-1.jpeg
END:VEVENT
END:VCALENDAR