﻿BEGIN:VCALENDAR
VERSION:2.0
PRODID:-//Jazz04 - ECPv5.3.2.1//NONSGML v1.0//EN
CALSCALE:GREGORIAN
METHOD:PUBLISH
X-WR-CALNAME:Jazz04
X-ORIGINAL-URL:https://jazz04.be
X-WR-CALDESC:évènements pour Jazz04
BEGIN:VTIMEZONE
TZID:Europe/Paris
BEGIN:DAYLIGHT
TZOFFSETFROM:+0100
TZOFFSETTO:+0200
TZNAME:CEST
DTSTART:20240331T010000
END:DAYLIGHT
BEGIN:STANDARD
TZOFFSETFROM:+0200
TZOFFSETTO:+0100
TZNAME:CET
DTSTART:20241027T010000
END:STANDARD
END:VTIMEZONE
BEGIN:VEVENT
DTSTART;TZID=Europe/Paris:20241016T190000
DTEND;TZID=Europe/Paris:20241016T233000
DTSTAMP:20260421T103550
CREATED:20241004T200249Z
LAST-MODIFIED:20241004T200250Z
UID:4993-1729105200-1729121400@jazz04.be
SUMMARY:RDG Trio
DESCRIPTION:Avec Miel De Koninck (pn)\, Wolf De Backer (cb)& Rune De Groote (dr) \nLe batteur Rune De Groote présente son nouveau projet personnel\, où l’accent est mis sur l’écoute\, la connexion et la création de couleurs musicales vibrantes. Ce projet unique est l’aboutissement d’années d’expérience et d’une profonde passion pour la musique\, permettant à Rune d’exprimer pleinement sa vision musicale et sa créativité. \nLors de ce concert\, Rune emmènera le public dans un voyage musical plein d’énergie et d’émotion.\nSon jeu se caractérise par un style dynamique et expressif\, à la fois surprenant et captivant. Chaque morceau raconte sa propre histoire\, avec des compositions originales entrecoupées d’arrangements rafraîchissants de standards de jazz bien connus. \nLe trio bénéficie également des talents exceptionnels de Miel De Koninck au piano et de Wolf De Backer à la contrebasse.\nLe toucher magistral de Miel sur les touches ajoute une riche couche harmonique\, tandis que les lignes de basse profondes et résonnantes de Wolf constituent une base solide et inventive. Ensemble\, ils créent un son à la fois cohérent et dynamique\, repoussant les limites du trio de jazz traditionnel. \nLa batterie de Rune est au cœur de cet ensemble\, faisant avancer la musique avec une précision rythmique et un flair créatif. Sa capacité à mélanger des rythmes complexes avec des éléments mélodiques crée un paysage sonore à la fois innovant et accessible\, qui séduit un large éventail d’auditeurs. \nRejoignez-nous et laissez-vous emporter par les sons et les rythmes enchanteurs du RDG Trio\, composé de Rune De Groote\, Miel De Koninck et Wolf De Backer. Ce concert promet d’être une expérience inoubliable pour tous les amateurs de musique jazz. \nEntrée: 12€ tout public \n\n\n         7€ étudiant \nL’accès aux concerts se fait SANS réservation! \n  \nOuverture du club dès 19h00\nConcert à 21h00 \n\nL’accès au restaurant se fait uniquement sous réservation.\njacquespelzerjazzclub.asbl@gmail.com\nNotre confirmation en réponse fait office de réservation.
URL:https://jazz04.be/event/rdg-trio/
LOCATION:Jacques Pelzer Jazz Club\, Boulevard Ernest Solvay 493\, Liège\, Liège\, 4000
CATEGORIES:Concerts
ATTACH;FMTTYPE=image/jpeg:https://jazz04.be/wp-content/uploads/2024/10/RDG-Trio-Bandphoto-1-5x4-1-scaled.jpg
ORGANIZER;CN="Jacques%20Pelzer%20Jazz%20Club":MAILTO:jacquespelzerjazzclub.asbl@gmail.com
END:VEVENT
END:VCALENDAR