﻿BEGIN:VCALENDAR
VERSION:2.0
PRODID:-//Jazz04 - ECPv5.3.2.1//NONSGML v1.0//EN
CALSCALE:GREGORIAN
METHOD:PUBLISH
X-WR-CALNAME:Jazz04
X-ORIGINAL-URL:https://jazz04.be
X-WR-CALDESC:évènements pour Jazz04
BEGIN:VTIMEZONE
TZID:Europe/Paris
BEGIN:DAYLIGHT
TZOFFSETFROM:+0100
TZOFFSETTO:+0200
TZNAME:CEST
DTSTART:20220327T010000
END:DAYLIGHT
BEGIN:STANDARD
TZOFFSETFROM:+0200
TZOFFSETTO:+0100
TZNAME:CET
DTSTART:20221030T010000
END:STANDARD
END:VTIMEZONE
BEGIN:VEVENT
DTSTART;VALUE=DATE:20221006
DTEND;VALUE=DATE:20221007
DTSTAMP:20260421T103725
CREATED:20220929T195203Z
LAST-MODIFIED:20220929T195603Z
UID:3570-1665014400-1665100799@jazz04.be
SUMMARY:RéPercussion new CD
DESCRIPTION:Michel Debrulle\, Louis Frères et Stephan Pougin (section rythmique du Rêve d’éléphant Orchestra) forme ce trio tribal\, sans être ethnique: RéPercussion! Une musique sensible\, percussive\, poétique et libre\, dans un style jazzy\, dansant et noisy. \nSortie du premier CD à l’occasion de la reprise du spectacle RéPercussion-ID dont ils ont composé la musique. Le teaser\, pour comme avant goût https://youtu.be/E86LDR96w9s
URL:https://jazz04.be/event/repercussion-1er-cd/
CATEGORIES:Album Releases
ATTACH;FMTTYPE=image/jpeg:https://jazz04.be/wp-content/uploads/2022/09/214-Re╠upercussion1-COVER-3000PX┬®Racasse-Studio-scaled.jpg
END:VEVENT
END:VCALENDAR