﻿BEGIN:VCALENDAR
VERSION:2.0
PRODID:-//Jazz04 - ECPv5.3.2.1//NONSGML v1.0//EN
CALSCALE:GREGORIAN
METHOD:PUBLISH
X-WR-CALNAME:Jazz04
X-ORIGINAL-URL:https://jazz04.be
X-WR-CALDESC:évènements pour Jazz04
BEGIN:VTIMEZONE
TZID:Europe/Paris
BEGIN:DAYLIGHT
TZOFFSETFROM:+0100
TZOFFSETTO:+0200
TZNAME:CEST
DTSTART:20240331T010000
END:DAYLIGHT
BEGIN:STANDARD
TZOFFSETFROM:+0200
TZOFFSETTO:+0100
TZNAME:CET
DTSTART:20241027T010000
END:STANDARD
END:VTIMEZONE
BEGIN:VEVENT
DTSTART;TZID=Europe/Paris:20240127T203000
DTEND;TZID=Europe/Paris:20240127T223000
DTSTAMP:20260421T104110
CREATED:20231215T102813Z
LAST-MODIFIED:20240109T162529Z
UID:4567-1706387400-1706394600@jazz04.be
SUMMARY:RÉPERCUSSION feat. JULIEN TASSIN
DESCRIPTION:Tribal sans être ethnique\, la section rythmique du Rêve d’éléphant Orchestra offre une musique sensible\, percussive\, teintée d’électronique. \nLa complicité des deux batteurs-percussionnistes\, Michel Debrulle et Stephan Pougin\, qui se côtoient depuis plus de 20 ans au sein du Collectif du Lion\, est une force indéniable pour tisser un jeu rythmique complexe\, musical et toujours lisible. Le travail sonore de Louis Frère par l’utilisation du synthé et des pédales d’effets\, en plus du potentiel groovy de la basse\, participe à spécifier la couleur du trio. \nL’improvisation et l’apport de la voix sont aussi des éléments structurants de cette esthétique musicale. Les trois musiciens sont tout aussi bien solistes qu’accompagnateurs. Leur démarche musicale se veut à la fois poétique et libre\, dans un style tribal\, jazzy\, dansant et noisy.\nLe trio aime les nouvelles rencontres; ce 27 janvier\, ils invitent le guitariste Julien Tassin. \nMichel Debrulle – batterie\, percussions\, voix\nLouis Frère – basse\, électronique\nStephan Pougin – batterie\, percussions\nJulien Tassin – guitares \nhttps://www.collectifdulion.com/repercussion \n\n\n20h30 – 12 € /  7 € (étudiants) \n\nSelon la limite des places disponibles\, les réservations sont vivement souhaitées via anvertreservations@gmail.com \n\n 
URL:https://jazz04.be/event/repercussion-feat-julien-tassin/
LOCATION:L’An Vert
CATEGORIES:Concerts
ATTACH;FMTTYPE=image/png:https://jazz04.be/wp-content/uploads/2023/12/Capture-décran-2023-11-16-à-12.27.44.png
END:VEVENT
END:VCALENDAR