﻿BEGIN:VCALENDAR
VERSION:2.0
PRODID:-//Jazz04 - ECPv5.3.2.1//NONSGML v1.0//EN
CALSCALE:GREGORIAN
METHOD:PUBLISH
X-WR-CALNAME:Jazz04
X-ORIGINAL-URL:https://jazz04.be
X-WR-CALDESC:évènements pour Jazz04
BEGIN:VTIMEZONE
TZID:Europe/Paris
BEGIN:DAYLIGHT
TZOFFSETFROM:+0100
TZOFFSETTO:+0200
TZNAME:CEST
DTSTART:20210328T010000
END:DAYLIGHT
BEGIN:STANDARD
TZOFFSETFROM:+0200
TZOFFSETTO:+0100
TZNAME:CET
DTSTART:20211031T010000
END:STANDARD
END:VTIMEZONE
BEGIN:VEVENT
DTSTART;TZID=Europe/Paris:20211029T203000
DTEND;TZID=Europe/Paris:20211029T223000
DTSTAMP:20260421T113853
CREATED:20210915T142234Z
LAST-MODIFIED:20211006T091729Z
UID:2660-1635539400-1635546600@jazz04.be
SUMMARY:REPERCUSSION
DESCRIPTION:Tribal sans être ethnique\, la section rythmique du Rêve d’éléphant Orchestra offre une musique sensible\, percussive\, teintée d’électronique. \nCe trio vous servira un Drum’n Bass sauce jazz à faire frémir vos popotins. \nLa richesse de la matière rythmique créée pour le spectacle de danse Rêve d’éléphant donne à son compositeur\, Michel Debrulle\, l’envie de la faire vivre et résonner par une section ryhtmique.\nEn 2017\, l’occasion lui est donnée par le Théâtre Marni qui lui propose une carte blanche ; Répercussion sera présenté en première lors du Live Marni Jazz Festival#Drums avec Etienne Plumer\, Stephan Pougin\, Michel Debrulle et des invités danseurs. \nMichel Debrulle – batterie\, grosse caisse de Binche \nLouis Freres – basse\, électronique \nStephan Pougin – bodhran\, tupan\, congas\, derbouka\, batterie \n\nSelon la limite des places disponibles\, les réservations sont vivement souhaitées via reservations@lanvert.be
URL:https://jazz04.be/event/repercussion/
LOCATION:L’An Vert
CATEGORIES:Concerts
ATTACH;FMTTYPE=image/jpeg:https://jazz04.be/wp-content/uploads/2021/09/rep.jpg
ORGANIZER;CN="l%27An%20Vert":MAILTO:info@lanvert.be
END:VEVENT
END:VCALENDAR