﻿BEGIN:VCALENDAR
VERSION:2.0
PRODID:-//Jazz04 - ECPv5.3.2.1//NONSGML v1.0//EN
CALSCALE:GREGORIAN
METHOD:PUBLISH
X-WR-CALNAME:Jazz04
X-ORIGINAL-URL:https://jazz04.be
X-WR-CALDESC:évènements pour Jazz04
BEGIN:VTIMEZONE
TZID:Europe/Paris
BEGIN:DAYLIGHT
TZOFFSETFROM:+0100
TZOFFSETTO:+0200
TZNAME:CEST
DTSTART:20200329T010000
END:DAYLIGHT
BEGIN:STANDARD
TZOFFSETFROM:+0200
TZOFFSETTO:+0100
TZNAME:CET
DTSTART:20201025T010000
END:STANDARD
END:VTIMEZONE
BEGIN:VEVENT
DTSTART;TZID=Europe/Paris:20200304T210000
DTEND;TZID=Europe/Paris:20200304T233000
DTSTAMP:20260421T130105
CREATED:20200214T162702Z
LAST-MODIFIED:20200302T085430Z
UID:1813-1583355600-1583364600@jazz04.be
SUMMARY:Roberto Bossard New Group
DESCRIPTION:Avec Roberto Bossard (gt)\, Lukas Gernet (pn)\, Toni Bechtold (st)\, Raffaele Bossard (b) & Dominic Egli (dr) \n\nAvec une nouvelle équipe et de nouvelles compositions Roberto Bossard nous embarque dans un jazz aux couleurs nuancées\, parfois intimiste. Dans l’archipel du jazz parcouru par de multiples courants\, le guitariste Alberto Bossard cultive un goût certain pour les zones situées à l’abri des tempêtes. Ses compositions se déploient souvent comme des dentelles\, animées par un swing élégant. Issu d’une famille de musiciens\, il a eu une révélation en découvrant Joe Pass. Il est considéré comme l’un des leaders parmi les jazzmen issus du creuset suisse. Pour former son nouveau groupe\, il s’est entouré de valeurs sûres apparues sur la scène helvétique ces dernières années. Dans un répertoire diversifié\, chacun apporte ses qualités individuelles avec brio et sensibilité.\n\nhttp://www.robertobossard.ch/page/de/home\n\nEntrée : 7/10€\n\n\n\n\n\n\nOuverture du club et du restaurant dès 19h.\nL’accès au concert se fait sans réservation.\nLes réservations concernent le restaurant et se font uniquement par mail via l’adresse:  jacquespelzerjazzclub.asbl@gmail.com
URL:https://jazz04.be/event/roberto-bossard-new-group/
LOCATION:Jacques Pelzer Jazz Club\, Boulevard Ernest Solvay 493\, Liège\, Liège\, 4000
CATEGORIES:Concerts
ATTACH;FMTTYPE=image/jpeg:https://jazz04.be/wp-content/uploads/2020/02/robertobossardmarksoskinquartet-axelczypionka-3-17.jpg
END:VEVENT
END:VCALENDAR