﻿BEGIN:VCALENDAR
VERSION:2.0
PRODID:-//Jazz04 - ECPv5.3.2.1//NONSGML v1.0//EN
CALSCALE:GREGORIAN
METHOD:PUBLISH
X-WR-CALNAME:Jazz04
X-ORIGINAL-URL:https://jazz04.be
X-WR-CALDESC:évènements pour Jazz04
BEGIN:VTIMEZONE
TZID:Europe/Paris
BEGIN:DAYLIGHT
TZOFFSETFROM:+0100
TZOFFSETTO:+0200
TZNAME:CEST
DTSTART:20230326T010000
END:DAYLIGHT
BEGIN:STANDARD
TZOFFSETFROM:+0200
TZOFFSETTO:+0100
TZNAME:CET
DTSTART:20231029T010000
END:STANDARD
END:VTIMEZONE
BEGIN:VEVENT
DTSTART;TZID=Europe/Paris:20230208T190000
DTEND;TZID=Europe/Paris:20230208T233000
DTSTAMP:20260421T132214
CREATED:20221223T133145Z
LAST-MODIFIED:20230109T103402Z
UID:3805-1675882800-1675899000@jazz04.be
SUMMARY:Sabin Todorov- trio "Archaeology"
DESCRIPTION:Avec Sabin Todorov (pn)\, Sal la Rocca (cb) & Lionel Beuvens (dr)\n \nLe pianiste d’origine bulgare Sabin Todorov nous offre son troisième album en trio. «Archaeology»\, métaphore du voyage intérieur\, nous emmène dans l’univers poétique du pianiste à travers un jazz résolument moderne où la\nmélodie occupe une place de choix.\nLe trio de Sabin Todorov fêtera bientôt ses 20 ans. Fondé en 2002\, Sabin Todorov avait pour projet de croiser jazz moderne avec les rythmes et mélodies de la musique traditionnelle de son pays d’origine\, la Bulgarie. Pari réussi avec les deux premiers albums\, Inside Story (2008) et Inside Story 2 (2010)\, tous deux sortis chez Igloo.\nAprès une longue période de travail de recherche sur les tendances\, les structures et les interactions dans le jazz moderne\, le trio revient avec dix titres entièrement composés et arrangés pour le trio par le pianiste.\nIl faut entendre l’archéologie (Archaeology) comme métaphore du voyage en soi. Un voyage qui creuse dans notre mémoire et notre inconscient pour y puiser des merveilles. Comme la petite mélodie dans la pièce Archaeology\, la spiritualité\nd’un vieux livre qui a inspiré My Name Is Sadness\, la magnifique esthétique du film «Dreams» (1990) du réalisateur japonais Akira Kurosawa évoquée dans Kurosawa’s Fox Wedding \, Flight Over The Ocean et El Hierro qui puisent leur inspiration dans la beauté de la Nature ou encore Game of Fear et What a Mess\, deux titres traversés par la peur et la sensation de chaos mais aussi par l’humour.\nLa formule trio (piano/basse/batterie) semble être l’association parfaite pour exprimer l’univers poétique du pianiste.\n \n\nEntrée: 12€ tout public \n10€ étudiant \nL’accès aux concerts se fait SANS réservation! \n  \nOuverture du club dès 19h00\nConcert à 21h00 \nL’accès au restaurant se fait uniquement sous réservation. \njacquespelzerjazzclub.asbl@gmail.com\nNotre confirmation en réponse fait office de réservation.
URL:https://jazz04.be/event/sabin-todorov-trio-archaeology/
LOCATION:Jacques Pelzer Jazz Club\, Boulevard Ernest Solvay 493\, Liège\, Liège\, 4000
CATEGORIES:Concerts
ATTACH;FMTTYPE=image/jpeg:https://jazz04.be/wp-content/uploads/2022/12/Sabin-Sal-Lionel.jpg
ORGANIZER;CN="Jacques%20Pelzer%20Jazz%20Club":MAILTO:jacquespelzerjazzclub.asbl@gmail.com
END:VEVENT
END:VCALENDAR