﻿BEGIN:VCALENDAR
VERSION:2.0
PRODID:-//Jazz04 - ECPv5.3.2.1//NONSGML v1.0//EN
CALSCALE:GREGORIAN
METHOD:PUBLISH
X-WR-CALNAME:Jazz04
X-ORIGINAL-URL:https://jazz04.be
X-WR-CALDESC:évènements pour Jazz04
BEGIN:VTIMEZONE
TZID:Europe/Paris
BEGIN:DAYLIGHT
TZOFFSETFROM:+0100
TZOFFSETTO:+0200
TZNAME:CEST
DTSTART:20220327T010000
END:DAYLIGHT
BEGIN:STANDARD
TZOFFSETFROM:+0200
TZOFFSETTO:+0100
TZNAME:CET
DTSTART:20221030T010000
END:STANDARD
END:VTIMEZONE
BEGIN:VEVENT
DTSTART;TZID=Europe/Paris:20221201T200000
DTEND;TZID=Europe/Paris:20221201T220000
DTSTAMP:20260421T132214
CREATED:20221110T160607Z
LAST-MODIFIED:20221110T160607Z
UID:3734-1669924800-1669932000@jazz04.be
SUMMARY:SLOW SESSION – JAZZ ACOUSTIQUE avec Daniel Jonkers
DESCRIPTION:Chaque premier jeudi du mois\, en mode acoustique\, Pascal Mohy (piano)\, Quentin Liégeois (guitare) et Sam Gerstmans (contrebasse) vous proposent une parenthèse jazz tout en douceur. Amis dans la vie\, ils n’ont cessé de travailler ensemble sur leurs instruments tout en écoutant les plus grands musiciens de jazz. \nCe mois-ci\, ils invitent le batteur Daniel Jonkers. \n\n20h – Prix libre \n\nSelon la limite des places disponibles\, les réservations sont vivement souhaitées via reservations@lanvert.be
URL:https://jazz04.be/event/slow-session-jazz-acoustique-avec-daniel-jonkers/
LOCATION:L’An Vert
CATEGORIES:Concerts
ATTACH;FMTTYPE=image/jpeg:https://jazz04.be/wp-content/uploads/2022/11/slow_session_jonkers.jpg
END:VEVENT
END:VCALENDAR