﻿BEGIN:VCALENDAR
VERSION:2.0
PRODID:-//Jazz04 - ECPv5.3.2.1//NONSGML v1.0//EN
CALSCALE:GREGORIAN
METHOD:PUBLISH
X-WR-CALNAME:Jazz04
X-ORIGINAL-URL:https://jazz04.be
X-WR-CALDESC:évènements pour Jazz04
BEGIN:VTIMEZONE
TZID:Europe/Paris
BEGIN:DAYLIGHT
TZOFFSETFROM:+0100
TZOFFSETTO:+0200
TZNAME:CEST
DTSTART:20220327T010000
END:DAYLIGHT
BEGIN:STANDARD
TZOFFSETFROM:+0200
TZOFFSETTO:+0100
TZNAME:CET
DTSTART:20221030T010000
END:STANDARD
END:VTIMEZONE
BEGIN:VEVENT
DTSTART;TZID=Europe/Paris:20221103T200000
DTEND;TZID=Europe/Paris:20221103T220000
DTSTAMP:20260421T161044
CREATED:20221004T151403Z
LAST-MODIFIED:20221103T085327Z
UID:3590-1667505600-1667512800@jazz04.be
SUMMARY:Slow Session – Jazz acoustique avec Frank Vaganée
DESCRIPTION:Chaque premier jeudi du mois\, en mode acoustique\, Pascal Mohy (piano)\, Quentin Liégeois (guitare) et Sam Gerstmans (contrebasse) vous proposent une parenthèse jazz tout en douceur. Amis dans la vie\, ils n’ont cessé de travailler ensemble sur leurs instruments tout en écoutant les plus grands musiciens de jazz. \nCe mois-ci\, ils invitent le saxophoniste Frank Vaganée. \n\n20h – Prix libre \n\nSelon la limite des places disponibles\, les réservations sont vivement souhaitées via reservations@lanvert.be
URL:https://jazz04.be/event/slow-session-jazz-acoustique-avec-frank-vaganee/
LOCATION:L’An Vert
CATEGORIES:Concerts
ATTACH;FMTTYPE=image/jpeg:https://jazz04.be/wp-content/uploads/2022/10/slow_session_vaganee.jpg
END:VEVENT
END:VCALENDAR