﻿BEGIN:VCALENDAR
VERSION:2.0
PRODID:-//Jazz04 - ECPv5.3.2.1//NONSGML v1.0//EN
CALSCALE:GREGORIAN
METHOD:PUBLISH
X-WR-CALNAME:Jazz04
X-ORIGINAL-URL:https://jazz04.be
X-WR-CALDESC:évènements pour Jazz04
BEGIN:VTIMEZONE
TZID:Europe/Paris
BEGIN:DAYLIGHT
TZOFFSETFROM:+0100
TZOFFSETTO:+0200
TZNAME:CEST
DTSTART:20200329T010000
END:DAYLIGHT
BEGIN:STANDARD
TZOFFSETFROM:+0200
TZOFFSETTO:+0100
TZNAME:CET
DTSTART:20201025T010000
END:STANDARD
END:VTIMEZONE
BEGIN:VEVENT
DTSTART;TZID=Europe/Paris:20200305T203000
DTEND;TZID=Europe/Paris:20200305T233000
DTSTAMP:20260421T120642
CREATED:20200302T095144Z
LAST-MODIFIED:20200302T095144Z
UID:1938-1583440200-1583451000@jazz04.be
SUMMARY:Slow-session – Jazz acoustique “ Know What I Mean ? ” de Julian “ Cannonball ” Adderley
DESCRIPTION:Pascal Mohy (piano) et Sam Gerstmans (contrebasse) seront cette fois accompagnés par Ben Sluijs (saxophone) pour leur rendez-vous de jazz acoustique mensuel.\n\n\nIls interpréteront l’album “Know What I Mean ?” du saxophoniste Julian “ Cannonball ” Adderley. \nPrix libre
URL:https://jazz04.be/event/slow-session-jazz-acoustique-know-what-i-mean-de-julian-cannonball-adderley/
LOCATION:L’An Vert\, Rue Mathieu Polain\, 4\, Liège\, 4020\, Belgique
ATTACH;FMTTYPE=image/jpeg:https://jazz04.be/wp-content/uploads/2020/03/know-what-i-mean.jpg
END:VEVENT
END:VCALENDAR