﻿BEGIN:VCALENDAR
VERSION:2.0
PRODID:-//Jazz04 - ECPv5.3.2.1//NONSGML v1.0//EN
CALSCALE:GREGORIAN
METHOD:PUBLISH
X-WR-CALNAME:Jazz04
X-ORIGINAL-URL:https://jazz04.be
X-WR-CALDESC:évènements pour Jazz04
BEGIN:VTIMEZONE
TZID:Europe/Paris
BEGIN:DAYLIGHT
TZOFFSETFROM:+0100
TZOFFSETTO:+0200
TZNAME:CEST
DTSTART:20190331T010000
END:DAYLIGHT
BEGIN:STANDARD
TZOFFSETFROM:+0200
TZOFFSETTO:+0100
TZNAME:CET
DTSTART:20191027T010000
END:STANDARD
END:VTIMEZONE
BEGIN:VEVENT
DTSTART;TZID=Europe/Paris:20191205T203000
DTEND;TZID=Europe/Paris:20191205T233000
DTSTAMP:20260421T142145
CREATED:20191203T101517Z
LAST-MODIFIED:20191203T102454Z
UID:1472-1575577800-1575588600@jazz04.be
SUMMARY:Slow session – Jazz acoustique : «Swedish Schnapps» de Charlie Parker
DESCRIPTION:Chaque premier jeudi du mois\, en mode acoustique\, Pascal Mohy (piano)\, Quentin Liégeois (guitare) et Sam Gerstmans (contrebasse) vous proposent une parenthèse jazz tout en douceur. \nVoilà\, normalement on y est\, ou on devrait y être…\nMerci pour votre patiente. Après deux essais avortés\, l’esprit de Charlie Parker sera enfin avec nous pour cette slow session de fin d’année !
URL:https://jazz04.be/event/slow-session-jazz-acoustique-swedish-schnapps-de-charlie-parker/
LOCATION:L’An Vert\, Rue Mathieu Polain\, 4\, Liège\, 4020\, Belgique
ATTACH;FMTTYPE=image/jpeg:https://jazz04.be/wp-content/uploads/2019/12/slow_session-1024x536.jpg
END:VEVENT
END:VCALENDAR