﻿BEGIN:VCALENDAR
VERSION:2.0
PRODID:-//Jazz04 - ECPv5.3.2.1//NONSGML v1.0//EN
CALSCALE:GREGORIAN
METHOD:PUBLISH
X-WR-CALNAME:Jazz04
X-ORIGINAL-URL:https://jazz04.be
X-WR-CALDESC:évènements pour Jazz04
BEGIN:VTIMEZONE
TZID:Europe/Paris
BEGIN:DAYLIGHT
TZOFFSETFROM:+0100
TZOFFSETTO:+0200
TZNAME:CEST
DTSTART:20240331T010000
END:DAYLIGHT
BEGIN:STANDARD
TZOFFSETFROM:+0200
TZOFFSETTO:+0100
TZNAME:CET
DTSTART:20241027T010000
END:STANDARD
END:VTIMEZONE
BEGIN:VEVENT
DTSTART;TZID=Europe/Paris:20240120T203000
DTEND;TZID=Europe/Paris:20240120T223000
DTSTAMP:20260421T144150
CREATED:20231215T101517Z
LAST-MODIFIED:20231215T101517Z
UID:4560-1705782600-1705789800@jazz04.be
SUMMARY:STÉPHANE MERCIER QUARTET feat. DARREN BECKETT
DESCRIPTION:Pourquoi devrait-on se priver de bonnes choses ? Pourquoi se priver de bons bop et hard bop ?\nStéphane Mercier en reprend la recette et l’adapte à sa sauce. Tantôt fougueuse\, voire explosive\, tantôt plus sensuelle\, la musique écrite par le saxophoniste est d’une redoutable efficacité. \nLes mélodies se révèlent et s’enrichissent sous les doigts du pianiste Nicola Andrioli qui donne la réplique au leader. Le toucher est aussi souple que vif et a de quoi surprendre autant qu’émerveiller. La solide rythmique\, quant à elle\, est d’une merveilleuse inventivité. Nicolas Thys ancre le tempo tout en laissant de l’amplitude à de sinueuses impros\, alors que Darren Beckett (vieux complice irlandais) fouette fortement ou caresse tendrement les fûts avec un même bonheur. \nC’est tout ce que l’on aime dans ce jazz-là qui rappelle les grands soirs newyorkais où la musique résonnait jusqu’au petit matin sans jamais faiblir. Vous voilà prévenus\, la nuit sera longue et excitante. \n© Jacques Prouvost \nStéphane Mercier –  saxophone alto\, flûte traversière\nNicola Andrioli – piano\nNicolas Thys – contrebasse\nDarren Beckett – batterie \nwww.stephanemerciermusic.com \nDans le cadre du Jazz Tour. Une collaboration entre l’An Vert et Les Lundis d’Hortense. \nhttps://www.leslundisdhortense.be/ \n \n\n20h30 – 12 € / 10 € (membres LdH) / 7 € (étudiants) \n\nSelon la limite des places disponibles\, les réservations sont vivement souhaitées via anvertreservations@gmail.com
URL:https://jazz04.be/event/stephane-mercier-quartet-feat-darren-beckett/
LOCATION:L’An Vert
CATEGORIES:Concerts
ATTACH;FMTTYPE=image/jpeg:https://jazz04.be/wp-content/uploads/2023/12/ldh.jpg
END:VEVENT
END:VCALENDAR