﻿BEGIN:VCALENDAR
VERSION:2.0
PRODID:-//Jazz04 - ECPv5.3.2.1//NONSGML v1.0//EN
CALSCALE:GREGORIAN
METHOD:PUBLISH
X-WR-CALNAME:Jazz04
X-ORIGINAL-URL:https://jazz04.be
X-WR-CALDESC:évènements pour Jazz04
BEGIN:VTIMEZONE
TZID:Europe/Paris
BEGIN:DAYLIGHT
TZOFFSETFROM:+0100
TZOFFSETTO:+0200
TZNAME:CEST
DTSTART:20230326T010000
END:DAYLIGHT
BEGIN:STANDARD
TZOFFSETFROM:+0200
TZOFFSETTO:+0100
TZNAME:CET
DTSTART:20231029T010000
END:STANDARD
END:VTIMEZONE
BEGIN:VEVENT
DTSTART;TZID=Europe/Paris:20230127T200000
DTEND;TZID=Europe/Paris:20230127T220000
DTSTAMP:20260421T132038
CREATED:20230103T160522Z
LAST-MODIFIED:20230116T152823Z
UID:3836-1674849600-1674856800@jazz04.be
SUMMARY:SYNESTET : Rôles – Album Release
DESCRIPTION:Mené avec brio par la clarinettiste et compositrice Hélène Duret\, Synestet signe un second opus qui fait part belle à l’improvisation.\n\nRôles\, c’est un récit imaginaire où les règles établies sont très précises et à la fois jamais respectées. Après tout\, c’est là que réside la beauté d’une règle.  Un récit où les personnages s’échangent leurs rôles\, fusionnent ou opposent leurs intentions comme ils l’entendent\, créant\, sur l’instant et dans l’improvisation\, une alchimie unique et éphémère.\n\nLes Rôles s’interchangent en toute liberté et l’imprévu s’immisce dans les interstices. De là commence alors une grande discussion entre une guitare électrique rock aux effets volatiles\, une batterie tantôt coloriste\, tantôt cheffe d’orchestre\, des mélodies à chanter où saxophone\, clarinette et contrebasse fusionnent en une. \nHélène Duret\, Benjamin Sauzereau\, Sylvain Debaisieux\, Maxime Rouayroux\, Fil Caporali\, cinq musiciens fous d’improvisations\, assoiffés de jeux et d’expression musicale\, se faufilent entre les lignes pour former une bulle sonore homogène et improvisée. \n\nHélène Duret – clarinette\, clarinette basse\, compositions\nSylvain Debaisieux – saxophone ténor\nBenjamin Sauzereau – guitare électrique\, compositions\nFil Caporali – contrebasse\nMaxime Rouayroux – batterie\n\n\n20h – 12 € / 8 € (demandeurs d’emploi) / 5 € (étudiants) \n\nSelon la limite des places disponibles\, les réservations sont vivement souhaitées via reservations@lanvert.be
URL:https://jazz04.be/event/synestet-roles-album-release/
LOCATION:L’An Vert
CATEGORIES:Concerts
ATTACH;FMTTYPE=image/jpeg:https://jazz04.be/wp-content/uploads/2023/01/283746600_5063723627081601_2240657368410252478_n.jpeg
END:VEVENT
END:VCALENDAR