﻿BEGIN:VCALENDAR
VERSION:2.0
PRODID:-//Jazz04 - ECPv5.3.2.1//NONSGML v1.0//EN
CALSCALE:GREGORIAN
METHOD:PUBLISH
X-WR-CALNAME:Jazz04
X-ORIGINAL-URL:https://jazz04.be
X-WR-CALDESC:évènements pour Jazz04
BEGIN:VTIMEZONE
TZID:Europe/Paris
BEGIN:DAYLIGHT
TZOFFSETFROM:+0100
TZOFFSETTO:+0200
TZNAME:CEST
DTSTART:20190331T010000
END:DAYLIGHT
BEGIN:STANDARD
TZOFFSETFROM:+0200
TZOFFSETTO:+0100
TZNAME:CET
DTSTART:20191027T010000
END:STANDARD
END:VTIMEZONE
BEGIN:VEVENT
DTSTART;TZID=Europe/Paris:20191122T203000
DTEND;TZID=Europe/Paris:20191122T223000
DTSTAMP:20260421T120524
CREATED:20191109T104648Z
LAST-MODIFIED:20191115T115424Z
UID:1034-1574454600-1574461800@jazz04.be
SUMMARY:The Brotherhood blues band
DESCRIPTION:Avec Angie Cirella (batterie\, percussions\, accordina) – Jack Thysen (basse\, contrebasse) – Jean Maquet (guitare\, chant) – Lucky Vandevelde (harmonica\, flûte\, mandoline) \nRéunis par l’envie commune de proposer des standards revisités\, ils aspirent aujourd’hui simplement à partager leur musique avec un public à l’écoute\, dans une ambiance cool et cosy. \nPrix > Prévente : 8€ – Sur place : 10€ – Art.27 : 1\,25€\nRéservations > 019/33 90 94 (Mardi et jeudi de 13h30 à 18h00 et vendredi de 9h00 à 12h30 et de 13h30 à 18h00) – www.waremmeculture.be/Centre-Culturel/billetterie\nCurios > 1 curio
URL:https://jazz04.be/event/the-brotherhood-blues-band/
LOCATION:Passage9 [Centre culturel de Waremme]\, Place de l'Ecole Moyenne 9\, 4300 Waremme
CATEGORIES:Concerts
ATTACH;FMTTYPE=image/jpeg:https://jazz04.be/wp-content/uploads/2019/11/24639-agenda-image-705_x_445.jpg
END:VEVENT
END:VCALENDAR