﻿BEGIN:VCALENDAR
VERSION:2.0
PRODID:-//Jazz04 - ECPv5.3.2.1//NONSGML v1.0//EN
CALSCALE:GREGORIAN
METHOD:PUBLISH
X-WR-CALNAME:Jazz04
X-ORIGINAL-URL:https://jazz04.be
X-WR-CALDESC:évènements pour Jazz04
BEGIN:VTIMEZONE
TZID:Europe/Paris
BEGIN:DAYLIGHT
TZOFFSETFROM:+0100
TZOFFSETTO:+0200
TZNAME:CEST
DTSTART:20200329T010000
END:DAYLIGHT
BEGIN:STANDARD
TZOFFSETFROM:+0200
TZOFFSETTO:+0100
TZNAME:CET
DTSTART:20201025T010000
END:STANDARD
END:VTIMEZONE
BEGIN:VEVENT
DTSTART;TZID=Europe/Paris:20200129T210000
DTEND;TZID=Europe/Paris:20200129T210000
DTSTAMP:20260421T125432
CREATED:20191217T121015Z
LAST-MODIFIED:20191217T141007Z
UID:1578-1580331600-1580331600@jazz04.be
SUMMARY:The Lonius
DESCRIPTION:Avec Daniele Martini (sax ténor)\, Mathieu Robert (sax soprano)\, Nicola Lancerotti (cb) & Gaspard Sicx (dr)\n\n\nCe quartet se propose d’interpréter et de revisiter le répertoire du pianiste Thelonious Monk\, mais avec le fort contraste de l’absence totale de piano ou d’instrument harmonique. Les contrepoints joués par les deux saxophones ténor et soprano\, ne peuvent que rappeler les simples accords à deux voix joués par Monk. La musique qui en sort est donc dépouillée\, anguleuse parfois\, centrée sur la mélodie. \n\n\n\n\n\n\n\n\nEntrée: 5 / 7 euros \n\n\n\n\n\n\n\n\n\n\n\nOuverture du club et du restaurant dès 19h.\nL’accès au concert se fait sans réservation.\nLes réservations concernent le restaurant et se font uniquement par mail via l’adresse:  jacquespelzerjazzclub.asbl@gmail.com
URL:https://jazz04.be/event/the-lonius/
LOCATION:Jacques Pelzer Jazz Club\, Boulevard Ernest Solvay 493\, Liège\, Liège\, 4000
CATEGORIES:Concerts
ATTACH;FMTTYPE=image/jpeg:https://jazz04.be/wp-content/uploads/2019/12/Monk-the-lonius-Daniele-Martini.jpg
END:VEVENT
END:VCALENDAR