﻿BEGIN:VCALENDAR
VERSION:2.0
PRODID:-//Jazz04 - ECPv5.3.2.1//NONSGML v1.0//EN
CALSCALE:GREGORIAN
METHOD:PUBLISH
X-WR-CALNAME:Jazz04
X-ORIGINAL-URL:https://jazz04.be
X-WR-CALDESC:évènements pour Jazz04
BEGIN:VTIMEZONE
TZID:Europe/Paris
BEGIN:DAYLIGHT
TZOFFSETFROM:+0100
TZOFFSETTO:+0200
TZNAME:CEST
DTSTART:20230326T010000
END:DAYLIGHT
BEGIN:STANDARD
TZOFFSETFROM:+0200
TZOFFSETTO:+0100
TZNAME:CET
DTSTART:20231029T010000
END:STANDARD
END:VTIMEZONE
BEGIN:VEVENT
DTSTART;TZID=Europe/Paris:20230225T200000
DTEND;TZID=Europe/Paris:20230225T220000
DTSTAMP:20260421T104100
CREATED:20230202T164958Z
LAST-MODIFIED:20230202T164958Z
UID:3943-1677355200-1677362400@jazz04.be
SUMMARY:THE REAL BOOK LIEGE
DESCRIPTION:Soirée de présentation THE REAL BOOK LIEGE : \nCompilation d’œuvres de compositeurs de Jazz de la Province de Liège.\nAccompagnés d’une rythmique d’excellence\, les solistes des différentes compositions sont invités à jouer leurs oeuvres en live. \nMimi Verderamme (batterie)\nBenoît Vanderstraeten (basse)\nAndré Klenes (contrebasse) \nGuillaume Vierset\, Alain Pierre\, Sébastien Hogge\, Jean Debry (guitare)\nPascal Mohy\, Philippe Libois (piano) \nLaurent Meunier ( saxophone)\nAntoine Dawans (trompette)\nSarah Klenes (chant) \n+ Invités Real Book Limbourg NL :  \nCharlotte Haesen (voix)  et Philip Breidenbach (guitare\, voix)\n(avec le soutien de l’ambassade NL à Bxl) \n\n\n20h – 10 € / 7 € (demandeurs d’emploi) / 5 € (étudiants) \n\nSelon la limite des places disponibles\, les réservations sont vivement souhaitées via reservations@lanvert.be
URL:https://jazz04.be/event/the-real-book-liege/
LOCATION:L’An Vert
CATEGORIES:Concerts
ATTACH;FMTTYPE=image/jpeg:https://jazz04.be/wp-content/uploads/2023/02/316540350_683387789905673_8459826899547205639_n.jpeg
END:VEVENT
END:VCALENDAR