﻿BEGIN:VCALENDAR
VERSION:2.0
PRODID:-//Jazz04 - ECPv5.3.2.1//NONSGML v1.0//EN
CALSCALE:GREGORIAN
METHOD:PUBLISH
X-WR-CALNAME:Jazz04
X-ORIGINAL-URL:https://jazz04.be
X-WR-CALDESC:évènements pour Jazz04
BEGIN:VTIMEZONE
TZID:Europe/Paris
BEGIN:DAYLIGHT
TZOFFSETFROM:+0100
TZOFFSETTO:+0200
TZNAME:CEST
DTSTART:20220327T010000
END:DAYLIGHT
BEGIN:STANDARD
TZOFFSETFROM:+0200
TZOFFSETTO:+0100
TZNAME:CET
DTSTART:20221030T010000
END:STANDARD
END:VTIMEZONE
BEGIN:VEVENT
DTSTART;TZID=Europe/Paris:20220518T080000
DTEND;TZID=Europe/Paris:20220518T170000
DTSTAMP:20260421T115502
CREATED:20220324T121539Z
LAST-MODIFIED:20220328T104431Z
UID:3170-1652860800-1652893200@jazz04.be
SUMMARY:Thomas Rivera Trio Ceguera Colectiva
DESCRIPTION:Avec Tomas Rivera (pn)\, Basile Rahola (cb)\, Pierre Hurty (dr) \n  \n« Le trio du pianiste Tomas Rivera se lance dans la recherche d’une sonorité moderne\, mais toujours en cohérence avec l’histoire du jazz\, à travers leurs propres compositions ainsi que des arrangements de différents styles et musiques populaires\, comme le rock\, la pop et même la musique folklorique.\n\n\nLe trio vient de sortir son premier EP « Ceguera Colectiva »\, en hommage aux révoltes populaire au Chili en 2019.\n\nGrâce à la différence d’influences et au multiculturalisme\, le trio trouve un son unique\, étroitement lié au jazz contemporain.  » \n\n  \nEntrée: 10€\n \nL’accès aux concerts se fait SANS réservation! \nOuverture du club dès 19h00\nConcert à 21h00 \n  \n\nL’accès au restaurant se fait uniquement sous réservation. \njacquespelzerjazzclub.asbl@gmail.com\nNotre confirmation en réponse fait office de réservation.\nSi le restaurant est complet\, une liste d’attente est créée.\n\nMerci de prévenir en cas de désistement\, nous pourrons ainsi proposer la place à une autre personne.
URL:https://jazz04.be/event/thomas-rivera-trio-ceguera-colectiva/
LOCATION:Jacques Pelzer Jazz Club\, Boulevard Ernest Solvay 493\, Liège\, Liège\, 4000
CATEGORIES:Concerts
ATTACH;FMTTYPE=image/jpeg:https://jazz04.be/wp-content/uploads/2022/03/Tomas-rivera-trio-scaled.jpg
END:VEVENT
END:VCALENDAR