﻿BEGIN:VCALENDAR
VERSION:2.0
PRODID:-//Jazz04 - ECPv5.3.2.1//NONSGML v1.0//EN
CALSCALE:GREGORIAN
METHOD:PUBLISH
X-WR-CALNAME:Jazz04
X-ORIGINAL-URL:https://jazz04.be
X-WR-CALDESC:évènements pour Jazz04
BEGIN:VTIMEZONE
TZID:Europe/Paris
BEGIN:DAYLIGHT
TZOFFSETFROM:+0100
TZOFFSETTO:+0200
TZNAME:CEST
DTSTART:20240331T010000
END:DAYLIGHT
BEGIN:STANDARD
TZOFFSETFROM:+0200
TZOFFSETTO:+0100
TZNAME:CET
DTSTART:20241027T010000
END:STANDARD
END:VTIMEZONE
BEGIN:VEVENT
DTSTART;TZID=Europe/Paris:20240410T190000
DTEND;TZID=Europe/Paris:20240410T233000
DTSTAMP:20260426T003428
CREATED:20240318T142333Z
LAST-MODIFIED:20240318T142334Z
UID:4685-1712775600-1712791800@jazz04.be
SUMMARY:THYS-FOULON-LUONGO TRIO
DESCRIPTION:Avec Toine THYS (saxo &cl basse)\, Victor Foulon (cb) & Armando Luongo (dr) \nLe saxophoniste bruxellois Toine Thys est un musicien qui aime créer la surprise. Figure centrale du saxophone en Belgique\, on peut l’entendre régulièrement en France et en Europe\, mais aussi en Afrique…\nLauréat de l’Octave du Jazz 2021\, il vient présenter ce trio organique\, le THYS-FOULON-LUONGO TRIO.\nAvec ses comparses Victor à la contrebasse et Armando à la batterie\, ils se font plaisir et vous font plaisir en jouant des morceaux connus ou moins connus. Tout est ici affaire d’interaction entre les musiciens\, et de plaisir de jouer pour\, ou avec le public. Groove et énergies positives au RDV !\n  \nEntrée: 12€ tout public \n7€ étudiant \nL’accès aux concerts se fait SANS réservation! \n  \nOuverture du club dès 19h00\nConcert à 21h00 \n\nL’accès au restaurant se fait uniquement sous réservation.\njacquespelzerjazzclub.asbl@gmail.com\nNotre confirmation en réponse fait office de réservation.
URL:https://jazz04.be/event/thys-foulon-luongo-trio/
LOCATION:Jacques Pelzer Jazz Club\, Boulevard Ernest Solvay 493\, Liège\, Liège\, 4000
CATEGORIES:Concerts
ATTACH;FMTTYPE=image/jpeg:https://jazz04.be/wp-content/uploads/2024/03/Toine-Thys-scaled.jpeg
ORGANIZER;CN="Jacques%20Pelzer%20Jazz%20Club":MAILTO:jacquespelzerjazzclub.asbl@gmail.com
END:VEVENT
END:VCALENDAR