﻿BEGIN:VCALENDAR
VERSION:2.0
PRODID:-//Jazz04 - ECPv5.3.2.1//NONSGML v1.0//EN
CALSCALE:GREGORIAN
METHOD:PUBLISH
X-WR-CALNAME:Jazz04
X-ORIGINAL-URL:https://jazz04.be
X-WR-CALDESC:évènements pour Jazz04
BEGIN:VTIMEZONE
TZID:Europe/Paris
BEGIN:DAYLIGHT
TZOFFSETFROM:+0100
TZOFFSETTO:+0200
TZNAME:CEST
DTSTART:20200329T010000
END:DAYLIGHT
BEGIN:STANDARD
TZOFFSETFROM:+0200
TZOFFSETTO:+0100
TZNAME:CET
DTSTART:20201025T010000
END:STANDARD
END:VTIMEZONE
BEGIN:VEVENT
DTSTART;TZID=Europe/Paris:20200408T210000
DTEND;TZID=Europe/Paris:20200408T233000
DTSTAMP:20260421T104112
CREATED:20200220T150540Z
LAST-MODIFIED:20200330T062235Z
UID:1858-1586379600-1586388600@jazz04.be
SUMMARY:Annulation (Covid-19)-Toine Thys Quartet « Orlando »
DESCRIPTION:Avec Toine Thys (sax)\, Maxime Sanchez (pn)\, Florent Nisse (cb) & Antoine Pierre (dr) \n« Orlando » est le tout nouveau projet du saxophoniste bruxellois Toine Thys\, fruit de ses nombreuses collaborations avec la scène française et parisienne. On y retrouve l’incontournable et complice batteur liégeois Antoine Pierre\, les parisiens Florent Nisse (David Enhco\, Yaron Herman\, Michel Portal\, Logan Richardson) à la contrebasse et Maxime Sanchez au piano (Flash Pig). Au programme\, une nouvelle musique écrite avec passion par Toine\, inspirée de ses voyages dans les Balkans et en Afrique.\n\nEntrée : 5/7€\n\nOuverture du club et du restaurant dès 19h.\nL’accès au concert se fait sans réservation.\nLes réservations concernent le restaurant et se font uniquement par mail via l’adresse:  jacquespelzerjazzclub.asbl@gmail.com
URL:https://jazz04.be/event/toine-thys-quartet-orlando/
LOCATION:Jacques Pelzer Jazz Club\, Boulevard Ernest Solvay 493\, Liège\, Liège\, 4000
CATEGORIES:Concerts
ATTACH;FMTTYPE=image/jpeg:https://jazz04.be/wp-content/uploads/2020/02/Toine-thys.jpg
ORGANIZER;CN="Jacques%20Pelzer%20Jazz%20Club":MAILTO:jacquespelzerjazzclub.asbl@gmail.com
END:VEVENT
END:VCALENDAR