﻿BEGIN:VCALENDAR
VERSION:2.0
PRODID:-//Jazz04 - ECPv5.3.2.1//NONSGML v1.0//EN
CALSCALE:GREGORIAN
METHOD:PUBLISH
X-WR-CALNAME:Jazz04
X-ORIGINAL-URL:https://jazz04.be
X-WR-CALDESC:évènements pour Jazz04
BEGIN:VTIMEZONE
TZID:Europe/Paris
BEGIN:DAYLIGHT
TZOFFSETFROM:+0100
TZOFFSETTO:+0200
TZNAME:CEST
DTSTART:20200329T010000
END:DAYLIGHT
BEGIN:STANDARD
TZOFFSETFROM:+0200
TZOFFSETTO:+0100
TZNAME:CET
DTSTART:20201025T010000
END:STANDARD
END:VTIMEZONE
BEGIN:VEVENT
DTSTART;TZID=Europe/Paris:20200403T203000
DTEND;TZID=Europe/Paris:20200403T233000
DTSTAMP:20260421T130953
CREATED:20200312T093131Z
LAST-MODIFIED:20200317T151339Z
UID:1982-1585945800-1585956600@jazz04.be
SUMMARY:Annulation (Covid-19) - Toine Thys - Quentin Liégeois - Guillaume Vierset
DESCRIPTION:S’il est toujours intéressant de s’inscrire dans la tournée d’un musicien venant présenter son nouvel album\, le rôle d’un Centre Culturel est aussi de proposer des rencontres inédites: une forme de défi. On a déjà entendu le saxophoniste Toine Thys en trio avec l’organiste Arno Krijger (album Grizzly) ou l’Américain Sam Yahel (The Optimist). En guise de carte blanche\, le jazz club L’An Vert lui a proposé une formule en duo\, l’un avec Quentin Liégeois\, l’autre avec Guillaume Vierset. Deux guitaristes au style différent: l’un très inspiré par René Thomas (un Hommage présenté à Ans en trio)\, l’autre à la guitare plus « rock » avec le Harvest Group. Et si on leur proposait une formule à trois ? \nUne rencontre inédite\, un défi. \n  \n\nPrévente : 8€\nSur place : 10€\nArticle 27 : 1.25€
URL:https://jazz04.be/event/toine-thys-quentin-liegeois-guillaume-vierset/
LOCATION:Centre culturel d’Ans\, place des Anciens Combattants 1\, 4432 Alleur
CATEGORIES:Concerts
ATTACH;FMTTYPE=image/jpeg:https://jazz04.be/wp-content/uploads/2020/03/toine_thys-trio.jpg
ORGANIZER;CN="Centre%20culturel%20d%27Ans":MAILTO:info@centreculturelans.be
END:VEVENT
END:VCALENDAR