﻿BEGIN:VCALENDAR
VERSION:2.0
PRODID:-//Jazz04 - ECPv5.3.2.1//NONSGML v1.0//EN
CALSCALE:GREGORIAN
METHOD:PUBLISH
X-WR-CALNAME:Jazz04
X-ORIGINAL-URL:https://jazz04.be
X-WR-CALDESC:évènements pour Jazz04
BEGIN:VTIMEZONE
TZID:Europe/Paris
BEGIN:DAYLIGHT
TZOFFSETFROM:+0100
TZOFFSETTO:+0200
TZNAME:CEST
DTSTART:20220327T010000
END:DAYLIGHT
BEGIN:STANDARD
TZOFFSETFROM:+0200
TZOFFSETTO:+0100
TZNAME:CET
DTSTART:20221030T010000
END:STANDARD
END:VTIMEZONE
BEGIN:VEVENT
DTSTART;TZID=Europe/Paris:20221203T200000
DTEND;TZID=Europe/Paris:20221203T220000
DTSTAMP:20260421T145100
CREATED:20221109T142912Z
LAST-MODIFIED:20221109T142912Z
UID:3731-1670097600-1670104800@jazz04.be
SUMMARY:TRIO GRANDE
DESCRIPTION:Le plus petit big band du monde fêtera 30 ans de complicité musicale en 2022\, chose suffisamment rare que pour être soulignée !\nCes trois mousquetaires préparent pour leur anniversaire un sixième album.\nCe trio tout terrain peut aussi bien charmer le public dans l’intimité d’un club que sur une grande scène de festival. On qualifie leur musique de libertaire\, jouissive et communicative. \nLaurent Dehors – saxophones\, clarinettes\, cornemuse\, guimbarde\, harmonica\nMichel Massot – euphonium\, sousaphone\, trombone\nMichel Debrulle – batterie\, percussions \nhttps://www.collectifdulion.com/trio-grande \n\n20h – 10 € / 7 € (demandeurs d’emploi) / 5 € (étudiants) \n\nSelon la limite des places disponibles\, les réservations sont vivement souhaitées via reservations@lanvert.be
URL:https://jazz04.be/event/trio-grande/
LOCATION:L’An Vert
CATEGORIES:Concerts
ATTACH;FMTTYPE=image/jpeg:https://jazz04.be/wp-content/uploads/2022/11/trio.jpg
END:VEVENT
END:VCALENDAR