﻿BEGIN:VCALENDAR
VERSION:2.0
PRODID:-//Jazz04 - ECPv5.3.2.1//NONSGML v1.0//EN
CALSCALE:GREGORIAN
METHOD:PUBLISH
X-WR-CALNAME:Jazz04
X-ORIGINAL-URL:https://jazz04.be
X-WR-CALDESC:évènements pour Jazz04
BEGIN:VTIMEZONE
TZID:Europe/Paris
BEGIN:DAYLIGHT
TZOFFSETFROM:+0100
TZOFFSETTO:+0200
TZNAME:CEST
DTSTART:20220327T010000
END:DAYLIGHT
BEGIN:STANDARD
TZOFFSETFROM:+0200
TZOFFSETTO:+0100
TZNAME:CET
DTSTART:20221030T010000
END:STANDARD
END:VTIMEZONE
BEGIN:VEVENT
DTSTART;TZID=Europe/Paris:20220430T210000
DTEND;TZID=Europe/Paris:20220430T230000
DTSTAMP:20260421T144316
CREATED:20220325T133645Z
LAST-MODIFIED:20220430T153221Z
UID:3200-1651352400-1651359600@jazz04.be
SUMMARY:TRIPOLAR à l'occasion de la Journée internationale du Jazz / Liège
DESCRIPTION:A l’occasion de la Journée internationale du Jazz\, le samedi 30 avril 2022\,  le collectif Jazz04 et le Jacques Pelzer Jazz Club ont le plaisir de vous proposer le concert de Tripolar ! \nAvec :  Alain Delbrassine (sax alto et flûte)\, Laurent Delchambre (batterie)\, Nicolas Puma (contrebasse) \nTripolar est un trio à l’appétit insatiable\, fruit de nombreuses années de réflexion\, d’écoute\, de rencontres et d’expériences\, quioscille entre les styles\, avec pour mots d’ordre : liberté\, audace\, voracité ! Trois générations de musiciens qui s’affrontent et se complètent dans ce challenge tantôt free\, swing\, funk ou rock. Une variante plus aiguë du bipolarisme où lunatisme et schizophrénie croisent leurs grains\, en quête d’une synthèse inattendue qui prend vie sous vos yeux. Une musique faite d’urgence et de tradition. \nLe 30 avril\, le Jacques Pelzer Jazz Club ouvrira exceptionnellement ses portes un samedi à cette occasion ! \nConnue comme étant la maison de l’incontournable saxophoniste liégeois Jacques Pelzer\, elle a vu défiler dès 1949 le gratin mythique du jazz. En 2005\, une petite équipe de passionnés s’est mise en cheville de rendre sa vocation musicale à cet espace particulièrement propice à une écoute intimiste et conviviale. Depuis\, chaque mercredi le Jacques Pelzer Jazz Club propose une programmation éclectique et de qualité\, représentative de la scène belge et internationale du jazz d’aujourd’hui. \nInformations pratiques : \n\nSamedi 30 avril – 21h (concert) – 19h (ouverture du Club)\nJacques Pelzer Jazz Club\, Boulevard Ernest Solvay 493 – 4000 Liège\nEntrée : 10 € (sur place) / 8 € (prévente – disponible ci-dessous jusqu’au 30/04 à midi)\nEn cas de souci pour le paiement en ligne\, contactez-nous (musiques@ccrliege.be)\nRepas : le Club dispose d’un restaurant accessible dès 19h.\nL’accès au restaurant se fait uniquement sur réservation à l’adresse :  jacquespelzerjazzclub.asbl@gmail.com\nLa confirmation en réponse fait office de réservation.
URL:https://jazz04.be/event/tripolar-a-loccasion-de-la-journee-internationale-du-jazz-liege/
LOCATION:Jacques Pelzer Jazz Club\, Boulevard Ernest Solvay 493\, Liège\, Liège\, 4000
CATEGORIES:Concerts
ATTACH;FMTTYPE=image/jpeg:https://jazz04.be/wp-content/uploads/2022/03/Tripolar-Photo-1.jpg
END:VEVENT
END:VCALENDAR