﻿BEGIN:VCALENDAR
VERSION:2.0
PRODID:-//Jazz04 - ECPv5.3.2.1//NONSGML v1.0//EN
CALSCALE:GREGORIAN
METHOD:PUBLISH
X-WR-CALNAME:Jazz04
X-ORIGINAL-URL:https://jazz04.be
X-WR-CALDESC:évènements pour Jazz04
BEGIN:VTIMEZONE
TZID:Europe/Paris
BEGIN:DAYLIGHT
TZOFFSETFROM:+0100
TZOFFSETTO:+0200
TZNAME:CEST
DTSTART:20260329T010000
END:DAYLIGHT
BEGIN:STANDARD
TZOFFSETFROM:+0200
TZOFFSETTO:+0100
TZNAME:CET
DTSTART:20261025T010000
END:STANDARD
END:VTIMEZONE
BEGIN:VEVENT
DTSTART;TZID=Europe/Paris:20260507T200000
DTEND;TZID=Europe/Paris:20260510T000000
DTSTAMP:20260424T163703
CREATED:20260424T094228Z
LAST-MODIFIED:20260424T094228Z
UID:5946-1778184000-1778371200@jazz04.be
SUMMARY:Uhoda Jazz à Liège
DESCRIPTION:Du 7 au 10 mai 2026 se tiendra la 35ème édition du festival Uhoda Jazz à Liège\, le rendez-vous incontournable des amoureux du jazz ! Au programme\, quatre jours de concerts dans des lieux emblématiques de la ville de Liège. Cette année encore\, le festival réunit le meilleur des deux mondes : des têtes d’affiche internationales comme Ibrahim Maalouf\, Selah Sue ou Avishai Cohen\, pour des moments forts qui resteront gravés dans les mémoires\, et une programmation accessible à tous\, avec de nombreux concerts gratuits et événements thématiques (Initiations au swing et à la bachata\, activités pour les enfants\, formules V.I.P\, …) qui font tout le charme du festival. Une chose est sûre : cette édition 2026 s’annonce d’ores et déjà comme un cru exceptionnel !
URL:https://jazz04.be/event/uhoda-jazz-a-liege/
LOCATION:Liège\, Liège\, liège\, Belgique
CATEGORIES:Concerts
ATTACH;FMTTYPE=image/png:https://jazz04.be/wp-content/uploads/2026/04/Uhoda-jazz-a-Liege.png
ORGANIZER;CN="Jazz%20%C3%A0%20Li%C3%A8ge":MAILTO:info@jazzaliege.be
END:VEVENT
END:VCALENDAR