﻿BEGIN:VCALENDAR
VERSION:2.0
PRODID:-//Jazz04 - ECPv5.3.2.1//NONSGML v1.0//EN
CALSCALE:GREGORIAN
METHOD:PUBLISH
X-WR-CALNAME:Jazz04
X-ORIGINAL-URL:https://jazz04.be
X-WR-CALDESC:évènements pour Jazz04
BEGIN:VTIMEZONE
TZID:Europe/Paris
BEGIN:DAYLIGHT
TZOFFSETFROM:+0100
TZOFFSETTO:+0200
TZNAME:CEST
DTSTART:20240331T010000
END:DAYLIGHT
BEGIN:STANDARD
TZOFFSETFROM:+0200
TZOFFSETTO:+0100
TZNAME:CET
DTSTART:20241027T010000
END:STANDARD
END:VTIMEZONE
BEGIN:VEVENT
DTSTART;TZID=Europe/Paris:20240925T190000
DTEND;TZID=Europe/Paris:20240925T233000
DTSTAMP:20260421T195518
CREATED:20240815T132425Z
LAST-MODIFIED:20240815T132425Z
UID:4888-1727290800-1727307000@jazz04.be
SUMMARY:"Les Po' Boys"- Laurent Vigneron
DESCRIPTION:Avec Antoine Lissoir (Cl\, Sax)\, Timothé Le Maire (trb)\, Benjamin Clement (gt)\, Max Malkomes (cb) & Laurent Vigneron (dr) \nTel un Jukebox d’époque\, où le disque 45 tours faisait les belles heures des arrières salles de cafés\, les Po’ Boys vous proposent des découvertes surprenantes.\nSans limites dans leurs traductions musicales\, les cinq membres du groupe s’éclatent sur des morceaux Cha-cha-cha\, Rythm & Blues\, Rock Steady et Jazz\, bien sûr. Mariage de la musique afro-américaine et européenne\, ces styles musicaux sont pour eux une source inépuisable d’émerveillement.\nBenjamin Clement à la guitare\, Antoine Lissoir aux saxophones et à la clarinette\, Timothé Le Maire au trombone\, Max Malkomes à la contrebasse\, Laurent Vigneron à la batterie sont « Les Po’ Boys ». \nEntrée: 15€ tout public \n10€ étudiant \nL’accès aux concerts se fait SANS réservation! \n  \nOuverture du club dès 19h00\nConcert à 21h00 \n\nL’accès au restaurant se fait uniquement sous réservation.\njacquespelzerjazzclub.asbl@gmail.com\nNotre confirmation en réponse fait office de réservation.
URL:https://jazz04.be/event/les-po-boys-laurent-vigneron/
LOCATION:Jacques Pelzer Jazz Club\, Boulevard Ernest Solvay 493\, Liège\, Liège\, 4000
CATEGORIES:Concerts
ATTACH;FMTTYPE=image/png:https://jazz04.be/wp-content/uploads/2024/08/22Les-Po-Boys22-Laurent-Vigneron-google.png
ORGANIZER;CN="Jacques%20Pelzer%20Jazz%20Club":MAILTO:jacquespelzerjazzclub.asbl@gmail.com
END:VEVENT
END:VCALENDAR