﻿BEGIN:VCALENDAR
VERSION:2.0
PRODID:-//Jazz04 - ECPv5.3.2.1//NONSGML v1.0//EN
CALSCALE:GREGORIAN
METHOD:PUBLISH
X-WR-CALNAME:Jazz04
X-ORIGINAL-URL:https://jazz04.be
X-WR-CALDESC:évènements pour Jazz04
BEGIN:VTIMEZONE
TZID:Europe/Paris
BEGIN:DAYLIGHT
TZOFFSETFROM:+0100
TZOFFSETTO:+0200
TZNAME:CEST
DTSTART:20240331T010000
END:DAYLIGHT
BEGIN:STANDARD
TZOFFSETFROM:+0200
TZOFFSETTO:+0100
TZNAME:CET
DTSTART:20241027T010000
END:STANDARD
END:VTIMEZONE
BEGIN:VEVENT
DTSTART;TZID=Europe/Paris:20240927T203000
DTEND;TZID=Europe/Paris:20240927T203000
DTSTAMP:20260421T171315
CREATED:20240820T083402Z
LAST-MODIFIED:20240820T083402Z
UID:4895-1727469000-1727469000@jazz04.be
SUMMARY:Major Tune Quartet
DESCRIPTION:Major Tune est né de la complicité des deux amis David Tunno et Giuseppe Majorino. Bien qu’ils jouent ensemble depuis de nombreuses années dans les registres funk\, gospel et pop\, c’est dans le jazz qu’ils trouvent leurs racines. Pour ce projet\, de belles harmonies\, de bons grooves et mélodies vous attendent\, un beau mélange entre leurs origines gospel-funk et leur amour pour le jazz. Ils vous feront découvrir dans leurs compositions des influences telles que Robert Glasper\, Joshua Redman\, Pat Metheny\,… Entourés de deux musiciens confirmés\, Sal La Rocca à la contrebasse\, et Hervé Letor au saxophone\, le groupe joue principalement des compositions personnelles. Une musique qui ne vous laissera pas indifférent et vous fera voyager un instant. \nHervé Letor – saxophone\nGiuseppe Majorino – piano\nSal La Rocca – double basse\nDavid Tunno – batterie \n \nSelon la limite des places disponibles\, les réservations sont vivement souhaitées via anvertreservations@gmail.com
URL:https://jazz04.be/event/major-tune-quartet/
LOCATION:L’An Vert
CATEGORIES:Concerts
ATTACH;FMTTYPE=image/jpeg:https://jazz04.be/wp-content/uploads/2024/08/MAJORTUNNE-3.jpg
ORGANIZER;CN="l%27An%20Vert":MAILTO:info@lanvert.be
END:VEVENT
END:VCALENDAR